Package: demuxmix Version: 1.10.0 Command: /home/biocbuild/R/R/bin/R CMD INSTALL demuxmix StartedAt: 2025-10-13 20:18:54 -0000 (Mon, 13 Oct 2025) EndedAt: 2025-10-13 20:19:31 -0000 (Mon, 13 Oct 2025) EllapsedTime: 37.6 seconds RetCode: 0 Status: OK