Package: demuxmix Version: 1.10.0 Command: /home/biocbuild/R/R/bin/R CMD build --keep-empty-dirs --no-resave-data demuxmix StartedAt: 2025-10-14 00:16:18 -0000 (Tue, 14 Oct 2025) EndedAt: 2025-10-14 00:17:12 -0000 (Tue, 14 Oct 2025) EllapsedTime: 54.0 seconds RetCode: 0 Status: OK PackageFile: demuxmix_1.10.0.tar.gz PackageFileSize: 1.359 MiB