Package: demuxSNP Version: 1.6.0 Command: chmod a+r demuxSNP -R && E:\biocbuild\bbs-3.21-bioc\R\bin\R.exe CMD build --keep-empty-dirs --no-resave-data demuxSNP StartedAt: 2025-08-14 18:33:02 -0400 (Thu, 14 Aug 2025) EndedAt: 2025-08-14 18:36:02 -0400 (Thu, 14 Aug 2025) EllapsedTime: 180.6 seconds RetCode: 0 Status: OK PackageFile: demuxSNP_1.6.0.tar.gz PackageFileSize: 1.595 MiB