Package: demuxSNP Version: 1.6.1 Command: /home/biocbuild/bbs-3.21-bioc/R/bin/R CMD build --keep-empty-dirs --no-resave-data demuxSNP StartedAt: 2025-10-15 17:09:58 -0400 (Wed, 15 Oct 2025) EndedAt: 2025-10-15 17:12:10 -0400 (Wed, 15 Oct 2025) EllapsedTime: 132.1 seconds RetCode: 0 Status: OK PackageFile: demuxSNP_1.6.1.tar.gz PackageFileSize: 1.964 MiB