Package: demuxSNP Version: 1.6.1 Command: /Library/Frameworks/R.framework/Resources/bin/R CMD INSTALL demuxSNP StartedAt: 2025-10-13 16:13:19 -0400 (Mon, 13 Oct 2025) EndedAt: 2025-10-13 16:14:54 -0400 (Mon, 13 Oct 2025) EllapsedTime: 94.9 seconds RetCode: 0 Status: OK