Package: demuxSNP Version: 1.6.1 Command: /Library/Frameworks/R.framework/Resources/bin/R CMD check --install=check:demuxSNP.install-out.txt --library=/Library/Frameworks/R.framework/Resources/library --no-vignettes --timings demuxSNP_1.6.1.tar.gz StartedAt: 2025-10-14 02:43:03 -0400 (Tue, 14 Oct 2025) EndedAt: 2025-10-14 03:01:19 -0400 (Tue, 14 Oct 2025) EllapsedTime: 1096.0 seconds RetCode: 0 Status: OK CheckDir: demuxSNP.Rcheck Warnings: 0