Package: demuxSNP Version: 1.6.1 Command: rm -rf demuxSNP.buildbin-libdir && mkdir demuxSNP.buildbin-libdir && /Users/biocbuild/BBS/utils/build-universal.sh demuxSNP_1.6.1.tar.gz /Library/Frameworks/R.framework/Resources/bin/R demuxSNP.buildbin-libdir StartedAt: 2025-10-14 13:14:44 -0400 (Tue, 14 Oct 2025) EndedAt: 2025-10-14 13:17:28 -0400 (Tue, 14 Oct 2025) EllapsedTime: 164.2 seconds RetCode: 0 Status: OK PackageFile: demuxSNP_1.6.1.tgz PackageFileSize: 1.981 MiB