Package: demuxSNP Version: 1.6.0 Command: /Library/Frameworks/R.framework/Resources/bin/R CMD INSTALL demuxSNP StartedAt: 2025-04-21 15:33:45 -0400 (Mon, 21 Apr 2025) EndedAt: 2025-04-21 15:34:48 -0400 (Mon, 21 Apr 2025) EllapsedTime: 63.7 seconds RetCode: 0 Status: OK