Package: demuxSNP Version: 1.6.1 Command: /Library/Frameworks/R.framework/Resources/bin/R CMD check --install=check:demuxSNP.install-out.txt --library=/Library/Frameworks/R.framework/Resources/library --no-vignettes --timings demuxSNP_1.6.1.tar.gz StartedAt: 2025-10-14 19:15:56 -0400 (Tue, 14 Oct 2025) EndedAt: 2025-10-14 19:26:43 -0400 (Tue, 14 Oct 2025) EllapsedTime: 647.1 seconds RetCode: 0 Status: OK CheckDir: demuxSNP.Rcheck Warnings: 0