Package: demuxSNP Version: 1.6.1 Command: /Library/Frameworks/R.framework/Resources/bin/R CMD build --keep-empty-dirs --no-resave-data demuxSNP StartedAt: 2025-10-13 23:03:33 -0400 (Mon, 13 Oct 2025) EndedAt: 2025-10-13 23:06:15 -0400 (Mon, 13 Oct 2025) EllapsedTime: 161.7 seconds RetCode: 0 Status: OK PackageFile: demuxSNP_1.6.1.tar.gz PackageFileSize: 1.994 MiB