Package: deltaCaptureC Version: 1.22.0 Command: /Library/Frameworks/R.framework/Resources/bin/R CMD INSTALL deltaCaptureC StartedAt: 2025-10-13 15:55:09 -0400 (Mon, 13 Oct 2025) EndedAt: 2025-10-13 15:56:18 -0400 (Mon, 13 Oct 2025) EllapsedTime: 69.3 seconds RetCode: 0 Status: OK