Package: deltaCaptureC Version: 1.22.0 Command: rm -rf deltaCaptureC.buildbin-libdir && mkdir deltaCaptureC.buildbin-libdir && /Users/biocbuild/BBS/utils/build-universal.sh deltaCaptureC_1.22.0.tar.gz /Library/Frameworks/R.framework/Resources/bin/R deltaCaptureC.buildbin-libdir StartedAt: 2025-10-14 13:14:28 -0400 (Tue, 14 Oct 2025) EndedAt: 2025-10-14 13:16:26 -0400 (Tue, 14 Oct 2025) EllapsedTime: 118.4 seconds RetCode: 0 Status: OK PackageFile: deltaCaptureC_1.22.0.tgz PackageFileSize: 599.2 KiB