Package: deepSNV Version: 1.54.0 Command: /Library/Frameworks/R.framework/Resources/bin/R CMD INSTALL deepSNV StartedAt: 2025-04-21 15:20:25 -0400 (Mon, 21 Apr 2025) EndedAt: 2025-04-21 15:20:44 -0400 (Mon, 21 Apr 2025) EllapsedTime: 19.1 seconds RetCode: 0 Status: OK