Package: decoupleR Version: 2.14.0 Command: /Library/Frameworks/R.framework/Resources/bin/R CMD build --keep-empty-dirs --no-resave-data decoupleR StartedAt: 2025-10-13 18:26:09 -0400 (Mon, 13 Oct 2025) EndedAt: 2025-10-13 18:34:05 -0400 (Mon, 13 Oct 2025) EllapsedTime: 475.9 seconds RetCode: 0 Status: OK PackageFile: decoupleR_2.14.0.tar.gz PackageFileSize: 4.492 MiB