Package: deconvR Version: 1.14.2 Command: /Library/Frameworks/R.framework/Resources/bin/R CMD INSTALL deconvR StartedAt: 2025-10-13 16:19:38 -0400 (Mon, 13 Oct 2025) EndedAt: 2025-10-13 16:21:23 -0400 (Mon, 13 Oct 2025) EllapsedTime: 104.2 seconds RetCode: 0 Status: OK