Package: deconvR Version: 1.14.2 Command: /Library/Frameworks/R.framework/Resources/bin/R CMD check --install=check:deconvR.install-out.txt --library=/Library/Frameworks/R.framework/Resources/library --no-vignettes --timings deconvR_1.14.2.tar.gz StartedAt: 2025-10-14 02:33:08 -0400 (Tue, 14 Oct 2025) EndedAt: 2025-10-14 03:01:37 -0400 (Tue, 14 Oct 2025) EllapsedTime: 1709.1 seconds RetCode: 0 Status: OK CheckDir: deconvR.Rcheck Warnings: 0