Package: decontam Version: 1.28.0 Command: E:\biocbuild\bbs-3.21-bioc\R\bin\R.exe CMD check --no-multiarch --install=check:decontam.install-out.txt --library=E:\biocbuild\bbs-3.21-bioc\R\library --no-vignettes --timings decontam_1.28.0.tar.gz StartedAt: 2025-08-15 01:16:56 -0400 (Fri, 15 Aug 2025) EndedAt: 2025-08-15 01:17:55 -0400 (Fri, 15 Aug 2025) EllapsedTime: 59.1 seconds RetCode: 0 Status: OK CheckDir: decontam.Rcheck Warnings: 0