Package: decontam Version: 1.28.0 Command: rm -rf decontam.buildbin-libdir && mkdir decontam.buildbin-libdir && /Users/biocbuild/BBS/utils/build-universal.sh decontam_1.28.0.tar.gz /Library/Frameworks/R.framework/Resources/bin/R decontam.buildbin-libdir StartedAt: 2025-04-22 00:41:34 -0400 (Tue, 22 Apr 2025) EndedAt: 2025-04-22 00:41:42 -0400 (Tue, 22 Apr 2025) EllapsedTime: 8.1 seconds RetCode: 0 Status: OK PackageFile: decontam_1.28.0.tgz PackageFileSize: 760 KiB