Package: decontam Version: 1.28.0 Command: /Library/Frameworks/R.framework/Resources/bin/R CMD check --install=check:decontam.install-out.txt --library=/Library/Frameworks/R.framework/Resources/library --no-vignettes --timings decontam_1.28.0.tar.gz StartedAt: 2025-04-21 19:00:14 -0400 (Mon, 21 Apr 2025) EndedAt: 2025-04-21 19:00:34 -0400 (Mon, 21 Apr 2025) EllapsedTime: 19.2 seconds RetCode: 0 Status: OK CheckDir: decontam.Rcheck Warnings: 0