Package: decontX Version: 1.6.0 Command: chmod a+r decontX -R && E:\biocbuild\bbs-3.21-bioc\R\bin\R.exe CMD build --keep-empty-dirs --no-resave-data decontX StartedAt: 2025-08-14 18:28:12 -0400 (Thu, 14 Aug 2025) EndedAt: 2025-08-14 18:40:35 -0400 (Thu, 14 Aug 2025) EllapsedTime: 742.9 seconds RetCode: 0 Status: OK PackageFile: decontX_1.6.0.tar.gz PackageFileSize: 970.4 KiB