Package: decontX Version: 1.6.0 Command: rm -rf decontX.buildbin-libdir && mkdir decontX.buildbin-libdir && E:\biocbuild\bbs-3.21-bioc\R\bin\R.exe CMD INSTALL --build --library=decontX.buildbin-libdir decontX_1.6.0.tar.gz StartedAt: 2025-08-15 09:07:58 -0400 (Fri, 15 Aug 2025) EndedAt: 2025-08-15 09:11:15 -0400 (Fri, 15 Aug 2025) EllapsedTime: 197.4 seconds RetCode: 0 Status: OK PackageFile: decontX_1.6.0.zip PackageFileSize: 1.969 MiB