Package: decontX Version: 1.6.0 Command: /home/biocbuild/bbs-3.21-bioc/R/bin/R CMD build --keep-empty-dirs --no-resave-data decontX StartedAt: 2025-10-01 17:08:30 -0400 (Wed, 01 Oct 2025) EndedAt: 2025-10-01 17:16:22 -0400 (Wed, 01 Oct 2025) EllapsedTime: 472.4 seconds RetCode: 0 Status: OK PackageFile: decontX_1.6.0.tar.gz PackageFileSize: 2.055 MiB