Package: decontX Version: 1.6.0 Command: /Library/Frameworks/R.framework/Resources/bin/R CMD check --install=check:decontX.install-out.txt --library=/Library/Frameworks/R.framework/Resources/library --no-vignettes --timings decontX_1.6.0.tar.gz StartedAt: 2025-04-21 20:10:04 -0400 (Mon, 21 Apr 2025) EndedAt: 2025-04-21 20:17:03 -0400 (Mon, 21 Apr 2025) EllapsedTime: 419.0 seconds RetCode: 0 Status: OK CheckDir: decontX.Rcheck Warnings: 0