Package: decontX Version: 1.6.0 Command: /home/biocbuild/R/R/bin/R CMD INSTALL decontX StartedAt: 2025-09-25 21:19:02 -0000 (Thu, 25 Sep 2025) EndedAt: 2025-09-25 21:23:18 -0000 (Thu, 25 Sep 2025) EllapsedTime: 256.2 seconds RetCode: 0 Status: OK