Package: decontX Version: 1.6.0 Command: /home/biocbuild/R/R/bin/R CMD check --install=check:decontX.install-out.txt --library=/home/biocbuild/R/R/site-library --no-vignettes --timings decontX_1.6.0.tar.gz StartedAt: 2025-09-19 08:52:18 -0000 (Fri, 19 Sep 2025) EndedAt: 2025-09-19 09:00:52 -0000 (Fri, 19 Sep 2025) EllapsedTime: 513.2 seconds RetCode: 0 Status: WARNINGS CheckDir: decontX.Rcheck Warnings: 1