Package: decontX Version: 1.6.0 Command: /home/biocbuild/R/R/bin/R CMD build --keep-empty-dirs --no-resave-data decontX StartedAt: 2025-09-26 00:18:52 -0000 (Fri, 26 Sep 2025) EndedAt: 2025-09-26 00:58:52 -0000 (Fri, 26 Sep 2025) EllapsedTime: 2400.1 seconds RetCode: None Status: TIMEOUT PackageFile: None PackageFileSize: NA