Package: decontX Version: 1.6.0 Command: /Library/Frameworks/R.framework/Resources/bin/R CMD build --keep-empty-dirs --no-resave-data decontX StartedAt: 2025-04-21 16:06:58 -0400 (Mon, 21 Apr 2025) EndedAt: 2025-04-21 16:09:59 -0400 (Mon, 21 Apr 2025) EllapsedTime: 181.0 seconds RetCode: 0 Status: OK PackageFile: decontX_1.6.0.tar.gz PackageFileSize: 1.992 MiB