Package: decontX Version: 1.6.0 Command: /Library/Frameworks/R.framework/Resources/bin/R CMD check --install=check:decontX.install-out.txt --library=/Library/Frameworks/R.framework/Resources/library --no-vignettes --timings decontX_1.6.0.tar.gz StartedAt: 2025-09-30 18:48:17 -0400 (Tue, 30 Sep 2025) EndedAt: 2025-09-30 18:56:16 -0400 (Tue, 30 Sep 2025) EllapsedTime: 479.2 seconds RetCode: 0 Status: OK CheckDir: decontX.Rcheck Warnings: 0