Package: decontX Version: 1.6.0 Command: rm -rf decontX.buildbin-libdir && mkdir decontX.buildbin-libdir && /Users/biocbuild/BBS/utils/build-universal.sh decontX_1.6.0.tar.gz /Library/Frameworks/R.framework/Resources/bin/R decontX.buildbin-libdir StartedAt: 2025-10-01 18:08:18 -0400 (Wed, 01 Oct 2025) EndedAt: 2025-10-01 18:11:11 -0400 (Wed, 01 Oct 2025) EllapsedTime: 172.4 seconds RetCode: 0 Status: OK PackageFile: decontX_1.6.0.tgz PackageFileSize: 2.695 MiB