Package: dearseq Version: 1.20.0 Command: /home/biocbuild/R/R/bin/R CMD check --install=check:dearseq.install-out.txt --library=/home/biocbuild/R/R/site-library --no-vignettes --timings dearseq_1.20.0.tar.gz StartedAt: 2025-10-14 08:14:10 -0000 (Tue, 14 Oct 2025) EndedAt: 2025-10-14 08:15:58 -0000 (Tue, 14 Oct 2025) EllapsedTime: 108.0 seconds RetCode: 0 Status: OK CheckDir: dearseq.Rcheck Warnings: 0