Package: dearseq Version: 1.20.0 Command: /home/biocbuild/R/R/bin/R CMD build --keep-empty-dirs --no-resave-data dearseq StartedAt: 2025-10-14 00:07:08 -0000 (Tue, 14 Oct 2025) EndedAt: 2025-10-14 00:18:31 -0000 (Tue, 14 Oct 2025) EllapsedTime: 683.2 seconds RetCode: 0 Status: OK PackageFile: dearseq_1.20.0.tar.gz PackageFileSize: 712.4 KiB