Package: ddCt Version: 1.64.0 Command: /home/biocbuild/bbs-3.21-bioc/R/bin/R CMD check --install=check:ddCt.install-out.txt --library=/home/biocbuild/bbs-3.21-bioc/R/site-library --timings ddCt_1.64.0.tar.gz StartedAt: 2025-10-15 22:22:03 -0400 (Wed, 15 Oct 2025) EndedAt: 2025-10-15 22:22:47 -0400 (Wed, 15 Oct 2025) EllapsedTime: 44.0 seconds RetCode: 0 Status: WARNINGS CheckDir: ddCt.Rcheck Warnings: 1