Package: ddCt Version: 1.64.0 Command: /Library/Frameworks/R.framework/Resources/bin/R CMD INSTALL ddCt StartedAt: 2025-10-02 17:57:16 -0400 (Thu, 02 Oct 2025) EndedAt: 2025-10-02 17:57:22 -0400 (Thu, 02 Oct 2025) EllapsedTime: 6.4 seconds RetCode: 0 Status: OK