Package: ddCt Version: 1.64.0 Command: /Library/Frameworks/R.framework/Resources/bin/R CMD build --keep-empty-dirs --no-resave-data ddCt StartedAt: 2025-10-02 22:37:43 -0400 (Thu, 02 Oct 2025) EndedAt: 2025-10-02 22:38:11 -0400 (Thu, 02 Oct 2025) EllapsedTime: 28.4 seconds RetCode: 0 Status: OK PackageFile: ddCt_1.64.0.tar.gz PackageFileSize: 781.2 KiB