Package: dar Version: 1.4.0 Command: /home/biocbuild/R/R/bin/R CMD INSTALL dar StartedAt: 2025-10-13 21:17:52 -0000 (Mon, 13 Oct 2025) EndedAt: 2025-10-13 21:18:27 -0000 (Mon, 13 Oct 2025) EllapsedTime: 34.4 seconds RetCode: 0 Status: OK