Package: dandelionR Version: 1.0.2 Command: E:\biocbuild\bbs-3.21-bioc\R\bin\R.exe CMD INSTALL dandelionR StartedAt: 2025-08-14 16:14:41 -0400 (Thu, 14 Aug 2025) EndedAt: 2025-08-14 16:15:48 -0400 (Thu, 14 Aug 2025) EllapsedTime: 67.7 seconds RetCode: 0 Status: OK