Package: dandelionR Version: 1.0.2 Command: rm -rf dandelionR.buildbin-libdir && mkdir dandelionR.buildbin-libdir && E:\biocbuild\bbs-3.21-bioc\R\bin\R.exe CMD INSTALL --build --library=dandelionR.buildbin-libdir dandelionR_1.0.2.tar.gz StartedAt: 2025-08-15 09:06:50 -0400 (Fri, 15 Aug 2025) EndedAt: 2025-08-15 09:08:22 -0400 (Fri, 15 Aug 2025) EllapsedTime: 91.3 seconds RetCode: 0 Status: OK PackageFile: dandelionR_1.0.2.zip PackageFileSize: 6.267 MiB