Package: dandelionR Version: 1.0.2 Command: /Library/Frameworks/R.framework/Resources/bin/R CMD INSTALL dandelionR StartedAt: 2025-10-13 16:44:05 -0400 (Mon, 13 Oct 2025) EndedAt: 2025-10-13 16:45:30 -0400 (Mon, 13 Oct 2025) EllapsedTime: 84.5 seconds RetCode: 0 Status: OK