Package: dandelionR Version: 1.0.2 Command: /Library/Frameworks/R.framework/Resources/bin/R CMD check --install=check:dandelionR.install-out.txt --library=/Library/Frameworks/R.framework/Resources/library --no-vignettes --timings dandelionR_1.0.2.tar.gz StartedAt: 2025-10-14 02:26:01 -0400 (Tue, 14 Oct 2025) EndedAt: 2025-10-14 02:37:16 -0400 (Tue, 14 Oct 2025) EllapsedTime: 675.3 seconds RetCode: 0 Status: OK CheckDir: dandelionR.Rcheck Warnings: 0