Package: dandelionR Version: 1.0.2 Command: /Library/Frameworks/R.framework/Resources/bin/R CMD build --keep-empty-dirs --no-resave-data dandelionR StartedAt: 2025-10-13 18:21:49 -0400 (Mon, 13 Oct 2025) EndedAt: 2025-10-13 18:26:28 -0400 (Mon, 13 Oct 2025) EllapsedTime: 279.3 seconds RetCode: 0 Status: OK PackageFile: dandelionR_1.0.2.tar.gz PackageFileSize: 9.374 MiB