Package: dandelionR Version: 1.0.2 Command: rm -rf dandelionR.buildbin-libdir && mkdir dandelionR.buildbin-libdir && /Users/biocbuild/BBS/utils/build-universal.sh dandelionR_1.0.2.tar.gz /Library/Frameworks/R.framework/Resources/bin/R dandelionR.buildbin-libdir StartedAt: 2025-10-14 13:11:43 -0400 (Tue, 14 Oct 2025) EndedAt: 2025-10-14 13:13:41 -0400 (Tue, 14 Oct 2025) EllapsedTime: 117.8 seconds RetCode: 0 Status: OK PackageFile: dandelionR_1.0.2.tgz PackageFileSize: 9.489 MiB