Package: dagLogo Version: 1.46.0 Command: /home/biocbuild/bbs-3.21-bioc/R/bin/R CMD check --install=check:dagLogo.install-out.txt --library=/home/biocbuild/bbs-3.21-bioc/R/site-library --timings dagLogo_1.46.0.tar.gz StartedAt: 2025-10-15 22:18:24 -0400 (Wed, 15 Oct 2025) EndedAt: 2025-10-15 22:26:03 -0400 (Wed, 15 Oct 2025) EllapsedTime: 459.4 seconds RetCode: 0 Status: OK CheckDir: dagLogo.Rcheck Warnings: 0