Package: dagLogo Version: 1.46.0 Command: /Library/Frameworks/R.framework/Resources/bin/R CMD INSTALL dagLogo StartedAt: 2025-10-13 16:35:22 -0400 (Mon, 13 Oct 2025) EndedAt: 2025-10-13 16:36:51 -0400 (Mon, 13 Oct 2025) EllapsedTime: 89.2 seconds RetCode: 0 Status: OK