Package: dagLogo Version: 1.46.0 Command: /Library/Frameworks/R.framework/Resources/bin/R CMD check --install=check:dagLogo.install-out.txt --library=/Library/Frameworks/R.framework/Resources/library --no-vignettes --timings dagLogo_1.46.0.tar.gz StartedAt: 2025-04-21 20:06:23 -0400 (Mon, 21 Apr 2025) EndedAt: 2025-04-21 20:12:53 -0400 (Mon, 21 Apr 2025) EllapsedTime: 389.3 seconds RetCode: 0 Status: OK CheckDir: dagLogo.Rcheck Warnings: 0