Package: dagLogo Version: 1.46.0 Command: /home/biocbuild/R/R/bin/R CMD check --install=check:dagLogo.install-out.txt --library=/home/biocbuild/R/R/site-library --no-vignettes --timings dagLogo_1.46.0.tar.gz StartedAt: 2025-10-14 08:09:18 -0000 (Tue, 14 Oct 2025) EndedAt: 2025-10-14 08:17:04 -0000 (Tue, 14 Oct 2025) EllapsedTime: 465.2 seconds RetCode: 0 Status: OK CheckDir: dagLogo.Rcheck Warnings: 0