Package: dagLogo Version: 1.46.0 Command: /home/biocbuild/R/R/bin/R CMD build --keep-empty-dirs --no-resave-data dagLogo StartedAt: 2025-10-14 00:04:45 -0000 (Tue, 14 Oct 2025) EndedAt: 2025-10-14 00:07:08 -0000 (Tue, 14 Oct 2025) EllapsedTime: 143.1 seconds RetCode: 0 Status: OK PackageFile: dagLogo_1.46.0.tar.gz PackageFileSize: 2.651 MiB