Package: dagLogo Version: 1.46.0 Command: /Library/Frameworks/R.framework/Resources/bin/R CMD build --keep-empty-dirs --no-resave-data dagLogo StartedAt: 2025-04-21 16:05:07 -0400 (Mon, 21 Apr 2025) EndedAt: 2025-04-21 16:05:58 -0400 (Mon, 21 Apr 2025) EllapsedTime: 51.5 seconds RetCode: 0 Status: OK PackageFile: dagLogo_1.46.0.tar.gz PackageFileSize: 3.112 MiB