Package: dada2 Version: 1.36.0 Command: /Library/Frameworks/R.framework/Resources/bin/R CMD INSTALL dada2 StartedAt: 2025-10-13 16:32:40 -0400 (Mon, 13 Oct 2025) EndedAt: 2025-10-13 16:35:31 -0400 (Mon, 13 Oct 2025) EllapsedTime: 171.0 seconds RetCode: 0 Status: OK