Package: dada2 Version: 1.36.0 Command: /Library/Frameworks/R.framework/Resources/bin/R CMD check --install=check:dada2.install-out.txt --library=/Library/Frameworks/R.framework/Resources/library --no-vignettes --timings dada2_1.36.0.tar.gz StartedAt: 2025-10-14 02:23:09 -0400 (Tue, 14 Oct 2025) EndedAt: 2025-10-14 02:32:09 -0400 (Tue, 14 Oct 2025) EllapsedTime: 539.8 seconds RetCode: 0 Status: WARNINGS CheckDir: dada2.Rcheck Warnings: 1