Package: dStruct Version: 1.14.0 Command: E:\biocbuild\bbs-3.21-bioc\R\bin\R.exe CMD check --no-multiarch --install=check:dStruct.install-out.txt --library=E:\biocbuild\bbs-3.21-bioc\R\library --no-vignettes --timings dStruct_1.14.0.tar.gz StartedAt: 2025-08-15 01:43:36 -0400 (Fri, 15 Aug 2025) EndedAt: 2025-08-15 01:45:17 -0400 (Fri, 15 Aug 2025) EllapsedTime: 100.3 seconds RetCode: 0 Status: OK CheckDir: dStruct.Rcheck Warnings: 0